BEGIN:VCALENDAR
METHOD:REQUEST
PRODID:-//events.orgNONSGML ical.net 4.0//EN
VERSION:2.0
BEGIN:VEVENT
DTEND;VALUE=DATE:20250418
DTSTAMP:20260419T092428Z
DTSTART;VALUE=DATE:20250418
LOCATION:Music Hall At Fair Park\, Dallas
ORGANIZER;CN=:mailto:events@events.org
SEQUENCE:0
SUMMARY:Mamma Mia! (Touring)
UID:ccb4287b-5f4a-43e8-afcb-68d38246dfaa
URL:https://events.org/e/Mamma-Mia-Touring/IWXHU6Q2
BEGIN:VALARM
ACTION:DISPLAY
SUMMARY:Reminder
TRIGGER:-P1D
END:VALARM
END:VEVENT
END:VCALENDAR
