BEGIN:VCALENDAR
METHOD:REQUEST
PRODID:-//events.orgNONSGML ical.net 4.0//EN
VERSION:2.0
BEGIN:VEVENT
DTEND;VALUE=DATE:20260923
DTSTAMP:20260422T084039Z
DTSTART;VALUE=DATE:20260923
LOCATION:9:30 CLUB\, Washington
ORGANIZER;CN=:mailto:events@events.org
SEQUENCE:0
SUMMARY:Jane Remover - Live Exhibit
UID:6e0e665f-4943-4778-8e97-17ca54d56f77
URL:https://events.org/e/Jane-Remover---Live-Exhibit/X2G7AOCN
BEGIN:VALARM
ACTION:DISPLAY
SUMMARY:Reminder
TRIGGER:-P1D
END:VALARM
END:VEVENT
END:VCALENDAR
