BEGIN:VCALENDAR
METHOD:REQUEST
PRODID:-//events.orgNONSGML ical.net 4.0//EN
VERSION:2.0
BEGIN:VEVENT
DTEND;VALUE=DATE:20260910
DTSTAMP:20260422T090944Z
DTSTART;VALUE=DATE:20260910
LOCATION:Citizens Bank Park\, Philadelphia
ORGANIZER;CN=:mailto:events@events.org
SEQUENCE:0
SUMMARY:Philadelphia Phillies vs Houston Astros: Independence Blue Cross S
 enior Stroll the Bases
UID:dc5b2c5c-44e9-4fb1-ab2a-91c0e6ecb741
URL:https://events.org/e/Philadelphia-Phillies-vs-Houston-Astros-Indep/PBP
 5SG7Q
BEGIN:VALARM
ACTION:DISPLAY
SUMMARY:Reminder
TRIGGER:-P1D
END:VALARM
END:VEVENT
END:VCALENDAR
