BEGIN:VCALENDAR
METHOD:REQUEST
PRODID:-//events.orgNONSGML ical.net 4.0//EN
VERSION:2.0
BEGIN:VEVENT
DTEND;VALUE=DATE:20260625
DTSTAMP:20260421T095109Z
DTSTART;VALUE=DATE:20260625
LOCATION:Citizens House of Blues Boston\, Boston
ORGANIZER;CN=:mailto:events@events.org
SEQUENCE:0
SUMMARY:Wale & Smino - Everything Is A Lot... The Tour
UID:e54a1446-aece-4eb3-a6b5-b384ff1d3348
URL:https://events.org/e/Wale-Smino---Everything-Is-A-Lot-The-Tour/MSADOJ9O
BEGIN:VALARM
ACTION:DISPLAY
SUMMARY:Reminder
TRIGGER:-P1D
END:VALARM
END:VEVENT
END:VCALENDAR
