BEGIN:VCALENDAR
METHOD:REQUEST
PRODID:-//events.orgNONSGML ical.net 4.0//EN
VERSION:2.0
BEGIN:VEVENT
DTEND;VALUE=DATE:20260519
DTSTAMP:20260422T090405Z
DTSTART;VALUE=DATE:20260519
LOCATION:The Moroccan Lounge\, Los Angeles
ORGANIZER;CN=:mailto:events@events.org
SEQUENCE:0
SUMMARY:Izzy Escobar
UID:ce7a014b-db7b-4231-a5b6-d3b88eb424f9
URL:https://events.org/e/Izzy-Escobar/JEUBRQK5
BEGIN:VALARM
ACTION:DISPLAY
SUMMARY:Reminder
TRIGGER:-P1D
END:VALARM
END:VEVENT
END:VCALENDAR
