BEGIN:VCALENDAR
METHOD:REQUEST
PRODID:-//events.orgNONSGML ical.net 4.0//EN
VERSION:2.0
BEGIN:VEVENT
DTEND;VALUE=DATE:20260509
DTSTAMP:20260423T195159Z
DTSTART;VALUE=DATE:20260509
LOCATION:Synovus Bank Amphitheater at Chastain Park\, Atlanta
ORGANIZER;CN=:mailto:events@events.org
SEQUENCE:0
SUMMARY:Alison Krauss and Union Station featuring: Jerry Douglas
UID:54c2e356-778b-4776-8ebb-8588001e5994
URL:https://events.org/e/Alison-Krauss-and-Union-Station-featuring-Jer/CKH
 PLSQD
BEGIN:VALARM
ACTION:DISPLAY
SUMMARY:Reminder
TRIGGER:-P1D
END:VALARM
END:VEVENT
END:VCALENDAR
