BEGIN:VCALENDAR
METHOD:REQUEST
PRODID:-//events.orgNONSGML ical.net 4.0//EN
VERSION:2.0
BEGIN:VEVENT
DTEND;VALUE=DATE:20260613
DTSTAMP:20260419T142322Z
DTSTART;VALUE=DATE:20260613
LOCATION:Stages - Sterling Stage\, Houston
ORGANIZER;CN=:mailto:events@events.org
SEQUENCE:0
SUMMARY:Spamilton: An American Parody
UID:cc2e8022-be47-445f-abda-00fa3cc3298a
URL:https://events.org/e/Spamilton-An-American-Parody/S424PB4O
BEGIN:VALARM
ACTION:DISPLAY
SUMMARY:Reminder
TRIGGER:-P1D
END:VALARM
END:VEVENT
END:VCALENDAR
