BEGIN:VCALENDAR
METHOD:REQUEST
PRODID:-//events.orgNONSGML ical.net 4.0//EN
VERSION:2.0
BEGIN:VEVENT
DTEND;VALUE=DATE:20260611
DTSTAMP:20260421T094230Z
DTSTART;VALUE=DATE:20260611
LOCATION:Orpheum Theatre-San Francisco\, San Francisco
ORGANIZER;CN=:mailto:events@events.org
SEQUENCE:0
SUMMARY:Phantom Of The Opera (Touring) - Recommended for ages 8+. No child
 ren under 5 allowed
UID:4956f4a9-0ec6-4fc9-a870-9fc806787e72
URL:https://events.org/e/Phantom-Of-The-Opera-Touring---Recommended-fo/DXA
 KHXY7
BEGIN:VALARM
ACTION:DISPLAY
SUMMARY:Reminder
TRIGGER:-P1D
END:VALARM
END:VEVENT
END:VCALENDAR
