BEGIN:VCALENDAR
METHOD:REQUEST
PRODID:-//events.orgNONSGML ical.net 4.0//EN
VERSION:2.0
BEGIN:VEVENT
DTEND;VALUE=DATE:20260524
DTSTAMP:20260425T103041Z
DTSTART;VALUE=DATE:20260524
LOCATION:Royale Boston\, Boston
ORGANIZER;CN=:mailto:events@events.org
SEQUENCE:0
SUMMARY:Holiday Sunday 5/24 @ Royale
UID:3077c597-36c4-4be6-bd83-35e285ffe926
URL:https://events.org/e/Holiday-Sunday-524-Royale/TF43XJK9
BEGIN:VALARM
ACTION:DISPLAY
SUMMARY:Reminder
TRIGGER:-P1D
END:VALARM
END:VEVENT
END:VCALENDAR
