BEGIN:VCALENDAR
METHOD:REQUEST
PRODID:-//events.orgNONSGML ical.net 4.0//EN
VERSION:2.0
BEGIN:VEVENT
DTEND;VALUE=DATE:20260625
DTSTAMP:20260421T095425Z
DTSTART;VALUE=DATE:20260625
LOCATION:Valley Bar\, Phoenix
ORGANIZER;CN=:mailto:events@events.org
SEQUENCE:0
SUMMARY:LATIN NIGHT WITH DJ RECO
UID:b2b7ce87-4541-4bde-b682-06967bed0a4f
URL:https://events.org/e/LATIN-NIGHT-WITH-DJ-RECO/VNAGVBKW
BEGIN:VALARM
ACTION:DISPLAY
SUMMARY:Reminder
TRIGGER:-P1D
END:VALARM
END:VEVENT
END:VCALENDAR
