BEGIN:VCALENDAR
METHOD:REQUEST
PRODID:-//events.orgNONSGML ical.net 4.0//EN
VERSION:2.0
BEGIN:VEVENT
DTEND;VALUE=DATE:20260613
DTSTAMP:20260421T094329Z
DTSTART;VALUE=DATE:20260613
LOCATION:White Oak Music Hall - Upstairs \, Houston
ORGANIZER;CN=:mailto:events@events.org
SEQUENCE:0
SUMMARY:Haunter
UID:62603d43-a4d2-4d94-939f-a42a1b39e0ed
URL:https://events.org/e/Haunter/FFQGLQ55
BEGIN:VALARM
ACTION:DISPLAY
SUMMARY:Reminder
TRIGGER:-P1D
END:VALARM
END:VEVENT
END:VCALENDAR
