BEGIN:VCALENDAR
METHOD:REQUEST
PRODID:-//events.orgNONSGML ical.net 4.0//EN
VERSION:2.0
BEGIN:VEVENT
DTEND;VALUE=DATE:20260607
DTSTAMP:20260419T213700Z
DTSTART;VALUE=DATE:20260607
LOCATION:The Castro Theatre\, San Francisco
ORGANIZER;CN=:mailto:events@events.org
SEQUENCE:0
SUMMARY:I'm With Her - Sing Me Alive Tour 2026
UID:0a7d34e7-b365-4699-ba13-120fe44382be
URL:https://events.org/e/Im-With-Her---Sing-Me-Alive-Tour-2026/EENWHITT
BEGIN:VALARM
ACTION:DISPLAY
SUMMARY:Reminder
TRIGGER:-P1D
END:VALARM
END:VEVENT
END:VCALENDAR
