BEGIN:VCALENDAR
METHOD:REQUEST
PRODID:-//events.orgNONSGML ical.net 4.0//EN
VERSION:2.0
BEGIN:VEVENT
DTEND;VALUE=DATE:20260622
DTSTAMP:20260422T091420Z
DTSTART;VALUE=DATE:20260622
LOCATION:Climate Pledge Arena\, Seattle
ORGANIZER;CN=:mailto:events@events.org
SEQUENCE:0
SUMMARY:Seattle Storm vs. Dallas Wings
UID:ed6248a1-a3c7-4a20-aa5c-3f0d07d38475
URL:https://events.org/e/Seattle-Storm-vs-Dallas-Wings/47KN62G6
BEGIN:VALARM
ACTION:DISPLAY
SUMMARY:Reminder
TRIGGER:-P1D
END:VALARM
END:VEVENT
END:VCALENDAR
