BEGIN:VCALENDAR
METHOD:REQUEST
PRODID:-//events.orgNONSGML ical.net 4.0//EN
VERSION:2.0
BEGIN:VEVENT
DTEND;VALUE=DATE:20260717
DTSTAMP:20260421T163936Z
DTSTART;VALUE=DATE:20260717
LOCATION:Grizzly Rose\, Denver
ORGANIZER;CN=:mailto:events@events.org
SEQUENCE:0
SUMMARY:Josh Turner
UID:afa2fa9d-ad7d-4308-bab8-585b4f375ec9
URL:https://events.org/e/Josh-Turner/NE4N2QXD
BEGIN:VALARM
ACTION:DISPLAY
SUMMARY:Reminder
TRIGGER:-P1D
END:VALARM
END:VEVENT
END:VCALENDAR
