BEGIN:VCALENDAR
METHOD:REQUEST
PRODID:-//events.orgNONSGML ical.net 4.0//EN
VERSION:2.0
BEGIN:VEVENT
DTEND;VALUE=DATE:20260613
DTSTAMP:20260421T082311Z
DTSTART;VALUE=DATE:20260613
LOCATION:Crescent Ballroom\, Phoenix
ORGANIZER;CN=:mailto:events@events.org
SEQUENCE:0
SUMMARY:EMO NITE AT CRESCENT BALLROOM\, AZ
UID:db073afb-2fa3-4e3b-8a05-e042492fc01a
URL:https://events.org/e/EMO-NITE-AT-CRESCENT-BALLROOM-AZ/MHQGGVLO
BEGIN:VALARM
ACTION:DISPLAY
SUMMARY:Reminder
TRIGGER:-P1D
END:VALARM
END:VEVENT
END:VCALENDAR
