BEGIN:VCALENDAR
METHOD:REQUEST
PRODID:-//events.orgNONSGML ical.net 4.0//EN
VERSION:2.0
BEGIN:VEVENT
DTEND;VALUE=DATE:20260605
DTSTAMP:20260422T084206Z
DTSTART;VALUE=DATE:20260605
LOCATION:9:30 CLUB\, Washington
ORGANIZER;CN=:mailto:events@events.org
SEQUENCE:0
SUMMARY:Can't Feel My Face: 2010s Dance Party
UID:1b152080-8bfe-48df-aead-8dac0c105cee
URL:https://events.org/e/Cant-Feel-My-Face-2010s-Dance-Party/4GLBLRXN
BEGIN:VALARM
ACTION:DISPLAY
SUMMARY:Reminder
TRIGGER:-P1D
END:VALARM
END:VEVENT
END:VCALENDAR
