BEGIN:VCALENDAR
METHOD:REQUEST
PRODID:-//events.orgNONSGML ical.net 4.0//EN
VERSION:2.0
BEGIN:VEVENT
DTEND;VALUE=DATE:20260524
DTSTAMP:20260426T034446Z
DTSTART;VALUE=DATE:20260524
LOCATION:Stages - Lester and Sue Smith Stage\, Houston
ORGANIZER;CN=:mailto:events@events.org
SEQUENCE:0
SUMMARY:That Drive Thru Monterey
UID:eb9246e3-9fdb-4b35-ade0-0cfb203c64b7
URL:https://events.org/e/That-Drive-Thru-Monterey/ER7D7TBO
BEGIN:VALARM
ACTION:DISPLAY
SUMMARY:Reminder
TRIGGER:-P1D
END:VALARM
END:VEVENT
END:VCALENDAR
