BEGIN:VCALENDAR
METHOD:REQUEST
PRODID:-//events.orgNONSGML ical.net 4.0//EN
VERSION:2.0
BEGIN:VEVENT
DTEND;VALUE=DATE:20260529
DTSTAMP:20260419T142639Z
DTSTART;VALUE=DATE:20260529
LOCATION:Atlanta Symphony Hall\, Atlanta
ORGANIZER;CN=:mailto:events@events.org
SEQUENCE:0
SUMMARY:Stutzmann Conducts Tchaikovsky
UID:22b94ad7-feb1-4f76-b087-337182e32803
URL:https://events.org/e/Stutzmann-Conducts-Tchaikovsky/KT7RY3AW
BEGIN:VALARM
ACTION:DISPLAY
SUMMARY:Reminder
TRIGGER:-P1D
END:VALARM
END:VEVENT
END:VCALENDAR
