BEGIN:VCALENDAR
METHOD:REQUEST
PRODID:-//events.orgNONSGML ical.net 4.0//EN
VERSION:2.0
BEGIN:VEVENT
DTEND;VALUE=DATE:20260602
DTSTAMP:20260421T094756Z
DTSTART;VALUE=DATE:20260602
LOCATION:Summit Music Hall\, Denver
ORGANIZER;CN=:mailto:events@events.org
SEQUENCE:0
SUMMARY:Spite
UID:e1174283-392b-4bd8-ac88-3fbcc7058faf
URL:https://events.org/e/Spite/OWER6KOH
BEGIN:VALARM
ACTION:DISPLAY
SUMMARY:Reminder
TRIGGER:-P1D
END:VALARM
END:VEVENT
END:VCALENDAR
