BEGIN:VCALENDAR
METHOD:REQUEST
PRODID:-//events.orgNONSGML ical.net 4.0//EN
VERSION:2.0
BEGIN:VEVENT
DTEND;VALUE=DATE:20260529
DTSTAMP:20260421T103936Z
DTSTART;VALUE=DATE:20260529
LOCATION:Howard Theatre\, Washington
ORGANIZER;CN=:mailto:events@events.org
SEQUENCE:0
SUMMARY:Sam Yo: The Monk's Mindset Book Tour
UID:b47bebde-c3fd-4540-979a-60787d2680ff
URL:https://events.org/e/Sam-Yo-The-Monks-Mindset-Book-Tour/NT38UDSP
BEGIN:VALARM
ACTION:DISPLAY
SUMMARY:Reminder
TRIGGER:-P1D
END:VALARM
END:VEVENT
END:VCALENDAR
