BEGIN:VCALENDAR
METHOD:REQUEST
PRODID:-//events.orgNONSGML ical.net 4.0//EN
VERSION:2.0
BEGIN:VEVENT
DTEND;VALUE=DATE:20261205
DTSTAMP:20260421T082346Z
DTSTART;VALUE=DATE:20261205
LOCATION:Fillmore Minneapolis presented by Affinity Plus\, Minneapolis
ORGANIZER;CN=:mailto:events@events.org
SEQUENCE:0
SUMMARY:Martin Amini
UID:87811db8-e8f7-446e-9c60-13e4172e8257
URL:https://events.org/e/Martin-Amini/AVGCEQEX
BEGIN:VALARM
ACTION:DISPLAY
SUMMARY:Reminder
TRIGGER:-P1D
END:VALARM
END:VEVENT
END:VCALENDAR
