BEGIN:VCALENDAR
METHOD:REQUEST
PRODID:-//events.orgNONSGML ical.net 4.0//EN
VERSION:2.0
BEGIN:VEVENT
DTEND;VALUE=DATE:20260701
DTSTAMP:20260421T103558Z
DTSTART;VALUE=DATE:20260701
LOCATION:Chase Field\, Phoenix
ORGANIZER;CN=:mailto:events@events.org
SEQUENCE:0
SUMMARY:Arizona Diamondbacks vs. San Francisco Giants
UID:a80db9cd-f02e-4b05-b93f-e8ffc4202ee0
URL:https://events.org/e/Arizona-Diamondbacks-vs-San-Francisco-Giants/4IF2
 A8X5
BEGIN:VALARM
ACTION:DISPLAY
SUMMARY:Reminder
TRIGGER:-P1D
END:VALARM
END:VEVENT
END:VCALENDAR
