BEGIN:VCALENDAR
METHOD:REQUEST
PRODID:-//events.orgNONSGML ical.net 4.0//EN
VERSION:2.0
BEGIN:VEVENT
DTEND;VALUE=DATE:20261003
DTSTAMP:20260423T133335Z
DTSTART;VALUE=DATE:20261003
LOCATION:Raymond James Stadium\, Tampa
ORGANIZER;CN=:mailto:events@events.org
SEQUENCE:0
SUMMARY:South Florida Bulls Football vs. Temple University Owls Football
UID:f0d5fbfa-00b9-46a7-87c2-4e07c5b99237
URL:https://events.org/e/South-Florida-Bulls-Football-vs-Temple-Univer/KP5
 L9LBT
BEGIN:VALARM
ACTION:DISPLAY
SUMMARY:Reminder
TRIGGER:-P1D
END:VALARM
END:VEVENT
END:VCALENDAR
