BEGIN:VCALENDAR
METHOD:REQUEST
PRODID:-//events.orgNONSGML ical.net 4.0//EN
VERSION:2.0
BEGIN:VEVENT
DTEND;VALUE=DATE:20260612
DTSTAMP:20260419T165945Z
DTSTART;VALUE=DATE:20260612
LOCATION:9PM Music Venue\, Houston
ORGANIZER;CN=:mailto:events@events.org
SEQUENCE:0
SUMMARY:KLOUD - HOUSTON: Ages 18+
UID:f1bc9461-cde8-4930-8d64-fd549ffd3b8f
URL:https://events.org/e/KLOUD---HOUSTON-Ages-18/PW9FFH72
BEGIN:VALARM
ACTION:DISPLAY
SUMMARY:Reminder
TRIGGER:-P1D
END:VALARM
END:VEVENT
END:VCALENDAR
