BEGIN:VCALENDAR
METHOD:REQUEST
PRODID:-//events.orgNONSGML ical.net 4.0//EN
VERSION:2.0
BEGIN:VEVENT
DTEND;VALUE=DATE:20260719
DTSTAMP:20260421T104219Z
DTSTART;VALUE=DATE:20260719
LOCATION:Coors Field\, Denver
ORGANIZER;CN=:mailto:events@events.org
SEQUENCE:0
SUMMARY:Colorado Rockies vs. Cincinnati Reds
UID:2acf7d90-3468-4a42-be46-6b2f9ea7558c
URL:https://events.org/e/Colorado-Rockies-vs-Cincinnati-Reds/8TOL46CN
BEGIN:VALARM
ACTION:DISPLAY
SUMMARY:Reminder
TRIGGER:-P1D
END:VALARM
END:VEVENT
END:VCALENDAR
