BEGIN:VCALENDAR
METHOD:REQUEST
PRODID:-//events.orgNONSGML ical.net 4.0//EN
VERSION:2.0
BEGIN:VEVENT
DTEND;VALUE=DATE:20260814
DTSTAMP:20260424T092747Z
DTSTART;VALUE=DATE:20260814
LOCATION:Walter Studios\, Phoenix
ORGANIZER;CN=:mailto:events@events.org
SEQUENCE:0
SUMMARY:Joshwa (21 and Over)
UID:470da707-e226-46e1-9f3a-01842021ed9c
URL:https://events.org/e/Joshwa-21-and-Over/5XR75AVF
BEGIN:VALARM
ACTION:DISPLAY
SUMMARY:Reminder
TRIGGER:-P1D
END:VALARM
END:VEVENT
END:VCALENDAR
