BEGIN:VCALENDAR
METHOD:REQUEST
PRODID:-//events.orgNONSGML ical.net 4.0//EN
VERSION:2.0
BEGIN:VEVENT
DTEND;VALUE=DATE:20260527
DTSTAMP:20260424T080847Z
DTSTART;VALUE=DATE:20260527
LOCATION:Three Top Lounge\, Chicago
ORGANIZER;CN=:mailto:events@events.org
SEQUENCE:0
SUMMARY:The Spellbinder Effect
UID:ec685adc-0182-4f3d-9f49-a9bfed3b220f
URL:https://events.org/e/The-Spellbinder-Effect/BNYCFKBF
BEGIN:VALARM
ACTION:DISPLAY
SUMMARY:Reminder
TRIGGER:-P1D
END:VALARM
END:VEVENT
END:VCALENDAR
