BEGIN:VCALENDAR
METHOD:REQUEST
PRODID:-//events.orgNONSGML ical.net 4.0//EN
VERSION:2.0
BEGIN:VEVENT
DTEND;VALUE=DATE:20260701
DTSTAMP:20260421T082644Z
DTSTART;VALUE=DATE:20260701
LOCATION:Cafe Du Nord\, San Francisco
ORGANIZER;CN=:mailto:events@events.org
SEQUENCE:0
SUMMARY:Maddie Jay
UID:05156e7e-865b-4111-a2cd-b54561d4f89c
URL:https://events.org/e/Maddie-Jay/LFCAKYY9
BEGIN:VALARM
ACTION:DISPLAY
SUMMARY:Reminder
TRIGGER:-P1D
END:VALARM
END:VEVENT
END:VCALENDAR
