BEGIN:VCALENDAR
METHOD:REQUEST
PRODID:-//events.orgNONSGML ical.net 4.0//EN
VERSION:2.0
BEGIN:VEVENT
DTEND;VALUE=DATE:20260622
DTSTAMP:20260421T144443Z
DTSTART;VALUE=DATE:20260622
LOCATION:Marquis\, Denver
ORGANIZER;CN=:mailto:events@events.org
SEQUENCE:0
SUMMARY:Himalayas
UID:847b8802-5692-414c-9e27-c51646e6c82d
URL:https://events.org/e/Himalayas/T9GIC7E5
BEGIN:VALARM
ACTION:DISPLAY
SUMMARY:Reminder
TRIGGER:-P1D
END:VALARM
END:VEVENT
END:VCALENDAR
