BEGIN:VCALENDAR
METHOD:REQUEST
PRODID:-//events.orgNONSGML ical.net 4.0//EN
VERSION:2.0
BEGIN:VEVENT
DTEND;VALUE=DATE:20260614
DTSTAMP:20260423T154154Z
DTSTART;VALUE=DATE:20260614
LOCATION:Cobb's Comedy Club\, San Francisco
ORGANIZER;CN=:mailto:events@events.org
SEQUENCE:0
SUMMARY:Drag-Up Comedy
UID:5aa5c2a2-4ed1-49a5-a2ec-b048d6227d70
URL:https://events.org/e/Drag-Up-Comedy/5B49ML6O
BEGIN:VALARM
ACTION:DISPLAY
SUMMARY:Reminder
TRIGGER:-P1D
END:VALARM
END:VEVENT
END:VCALENDAR
