BEGIN:VCALENDAR
METHOD:REQUEST
PRODID:-//events.orgNONSGML ical.net 4.0//EN
VERSION:2.0
BEGIN:VEVENT
DTEND;VALUE=DATE:20260520
DTSTAMP:20260422T090646Z
DTSTART;VALUE=DATE:20260520
LOCATION:The Bellwether\, Los Angeles
ORGANIZER;CN=:mailto:events@events.org
SEQUENCE:0
SUMMARY:The Afghan Whigs 40th Anniversary Tour
UID:2e49a7e4-7f3f-4736-975d-0befb04ea776
URL:https://events.org/e/The-Afghan-Whigs-40th-Anniversary-Tour/MOF5KD3U
BEGIN:VALARM
ACTION:DISPLAY
SUMMARY:Reminder
TRIGGER:-P1D
END:VALARM
END:VEVENT
END:VCALENDAR
