BEGIN:VCALENDAR
METHOD:REQUEST
PRODID:-//events.orgNONSGML ical.net 4.0//EN
VERSION:2.0
BEGIN:VEVENT
DTEND;VALUE=DATE:20260915
DTSTAMP:20260422T084059Z
DTSTART;VALUE=DATE:20260915
LOCATION:Varsity Theater\, Minneapolis
ORGANIZER;CN=:mailto:events@events.org
SEQUENCE:0
SUMMARY:Jane Remover: Live Exhibit
UID:7ef91411-df82-4961-a03f-a65aadbc68d7
URL:https://events.org/e/Jane-Remover-Live-Exhibit/SAUOH6R5
BEGIN:VALARM
ACTION:DISPLAY
SUMMARY:Reminder
TRIGGER:-P1D
END:VALARM
END:VEVENT
END:VCALENDAR
