BEGIN:VCALENDAR
METHOD:REQUEST
PRODID:-//events.orgNONSGML ical.net 4.0//EN
VERSION:2.0
BEGIN:VEVENT
DTEND;VALUE=DATE:20260425
DTSTAMP:20260422T083811Z
DTSTART;VALUE=DATE:20260425
LOCATION:House of the Redeemer\, New York
ORGANIZER;CN=:mailto:events@events.org
SEQUENCE:0
SUMMARY:TRU
UID:c24332e7-fe56-4d00-939a-513e684cb75f
URL:https://events.org/e/TRU/FAAYURX8
BEGIN:VALARM
ACTION:DISPLAY
SUMMARY:Reminder
TRIGGER:-P1D
END:VALARM
END:VEVENT
END:VCALENDAR
