BEGIN:VCALENDAR
METHOD:REQUEST
PRODID:-//events.orgNONSGML ical.net 4.0//EN
VERSION:2.0
BEGIN:VEVENT
DTEND;VALUE=DATE:20260601
DTSTAMP:20260422T091217Z
DTSTART;VALUE=DATE:20260601
LOCATION:White Oak Music Hall - Upstairs \, Houston
ORGANIZER;CN=:mailto:events@events.org
SEQUENCE:0
SUMMARY:bleood-Protagonist Tour
UID:ebe02b4d-8db5-4b33-8e2a-e9c76ac08e6f
URL:https://events.org/e/bleood-Protagonist-Tour/Q2L5IKGE
BEGIN:VALARM
ACTION:DISPLAY
SUMMARY:Reminder
TRIGGER:-P1D
END:VALARM
END:VEVENT
END:VCALENDAR
