BEGIN:VCALENDAR
METHOD:REQUEST
PRODID:-//events.orgNONSGML ical.net 4.0//EN
VERSION:2.0
BEGIN:VEVENT
DTEND;VALUE=DATE:20260612
DTSTAMP:20260421T143848Z
DTSTART;VALUE=DATE:20260612
LOCATION:Cafe Du Nord\, San Francisco
ORGANIZER;CN=:mailto:events@events.org
SEQUENCE:0
SUMMARY:Leah Kate - The Genius Tour
UID:cb437a9c-8487-4f54-aaf6-b43d0bd3e6fa
URL:https://events.org/e/Leah-Kate---The-Genius-Tour/EIHD96LV
BEGIN:VALARM
ACTION:DISPLAY
SUMMARY:Reminder
TRIGGER:-P1D
END:VALARM
END:VEVENT
END:VCALENDAR
