BEGIN:VCALENDAR
METHOD:REQUEST
PRODID:-//events.orgNONSGML ical.net 4.0//EN
VERSION:2.0
BEGIN:VEVENT
DTEND;VALUE=DATE:20260507
DTSTAMP:20260421T095415Z
DTSTART;VALUE=DATE:20260507
LOCATION:The United Theater on Broadway\, Los Angeles
ORGANIZER;CN=:mailto:events@events.org
SEQUENCE:0
SUMMARY:Netflix Is A Joke Presents: Mojo Brookzz (18+ Event)
UID:b53ea6b7-013a-487d-bbe4-0e3308488c23
URL:https://events.org/e/Netflix-Is-A-Joke-Presents-Mojo-Brookzz-18-Event/
 JBLCGWHJ
BEGIN:VALARM
ACTION:DISPLAY
SUMMARY:Reminder
TRIGGER:-P1D
END:VALARM
END:VEVENT
END:VCALENDAR
