BEGIN:VCALENDAR
METHOD:REQUEST
PRODID:-//events.orgNONSGML ical.net 4.0//EN
VERSION:2.0
BEGIN:VEVENT
DTEND;VALUE=DATE:20260425
DTSTAMP:20260422T085546Z
DTSTART;VALUE=DATE:20260425
LOCATION:Longacre Theatre\, New York
ORGANIZER;CN=:mailto:events@events.org
SEQUENCE:0
SUMMARY:Two Strangers (Carry a Cake Across New York)
UID:9bb8af75-5545-425c-826b-34bfecbc9b26
URL:https://events.org/e/Two-Strangers-Carry-a-Cake-Across-New-York/7MO38A
 5S
BEGIN:VALARM
ACTION:DISPLAY
SUMMARY:Reminder
TRIGGER:-P1D
END:VALARM
END:VEVENT
END:VCALENDAR
