BEGIN:VCALENDAR
METHOD:REQUEST
PRODID:-//events.orgNONSGML ical.net 4.0//EN
VERSION:2.0
BEGIN:VEVENT
DTEND;VALUE=DATE:20260924
DTSTAMP:20260425T102947Z
DTSTART;VALUE=DATE:20260924
LOCATION:Music Hall Center\, Detroit
ORGANIZER;CN=:mailto:events@events.org
SEQUENCE:0
SUMMARY:World Ballet Company: Swan Lake with LIVE Orchestra
UID:d7e486ae-19c4-405b-9f68-8c876650cbdf
URL:https://events.org/e/World-Ballet-Company-Swan-Lake-with-LIVE-Orchestr
 a/AXK8CB5H
BEGIN:VALARM
ACTION:DISPLAY
SUMMARY:Reminder
TRIGGER:-P1D
END:VALARM
END:VEVENT
END:VCALENDAR
