BEGIN:VCALENDAR
METHOD:REQUEST
PRODID:-//events.orgNONSGML ical.net 4.0//EN
VERSION:2.0
BEGIN:VEVENT
DTEND;VALUE=DATE:20260329
DTSTAMP:20260419T130304Z
DTSTART;VALUE=DATE:20260329
LOCATION:The Regent Theater\, Los Angeles
ORGANIZER;CN=:mailto:events@events.org
SEQUENCE:0
SUMMARY:C.Y. Fest Aftermath Ft. Dropdead\, Death Side & More!
UID:48bfe2d4-24bf-4fd6-bb0d-f42ac6ac00f8
URL:https://events.org/e/CY-Fest-Aftermath-Ft-Dropdead-Death-Side-More/MX3
 52GFF
BEGIN:VALARM
ACTION:DISPLAY
SUMMARY:Reminder
TRIGGER:-P1D
END:VALARM
END:VEVENT
END:VCALENDAR
