BEGIN:VCALENDAR
METHOD:REQUEST
PRODID:-//events.orgNONSGML ical.net 4.0//EN
VERSION:2.0
BEGIN:VEVENT
DTEND;VALUE=DATE:20260614
DTSTAMP:20260421T144141Z
DTSTART;VALUE=DATE:20260614
LOCATION:Summit Music Hall\, Denver
ORGANIZER;CN=:mailto:events@events.org
SEQUENCE:0
SUMMARY:Sistas Who Kill: Back From The Dead
UID:e99af4c0-5d91-4391-afd5-ca7c2cdd40ff
URL:https://events.org/e/Sistas-Who-Kill-Back-From-The-Dead/M2PMLV8Y
BEGIN:VALARM
ACTION:DISPLAY
SUMMARY:Reminder
TRIGGER:-P1D
END:VALARM
END:VEVENT
END:VCALENDAR
