BEGIN:VCALENDAR
METHOD:REQUEST
PRODID:-//events.orgNONSGML ical.net 4.0//EN
VERSION:2.0
BEGIN:VEVENT
DTEND;VALUE=DATE:20260511
DTSTAMP:20260421T142836Z
DTSTART;VALUE=DATE:20260511
LOCATION:Baba Yaga\, Seattle
ORGANIZER;CN=:mailto:events@events.org
SEQUENCE:0
SUMMARY:Devon Gabriella
UID:27822b5b-e603-4037-aaff-4ad5f62fa83d
URL:https://events.org/e/Devon-Gabriella/WDMW36AL
BEGIN:VALARM
ACTION:DISPLAY
SUMMARY:Reminder
TRIGGER:-P1D
END:VALARM
END:VEVENT
END:VCALENDAR
