BEGIN:VCALENDAR
METHOD:REQUEST
PRODID:-//events.orgNONSGML ical.net 4.0//EN
VERSION:2.0
BEGIN:VEVENT
DTEND;VALUE=DATE:20260710
DTSTAMP:20260424T092425Z
DTSTART;VALUE=DATE:20260710
LOCATION:Cobb's Comedy Club\, San Francisco
ORGANIZER;CN=:mailto:events@events.org
SEQUENCE:0
SUMMARY:James Austin Johnson
UID:47b36af5-e8c9-4c4f-92a9-08e4daac7dc7
URL:https://events.org/e/James-Austin-Johnson/NCSYUBH7
BEGIN:VALARM
ACTION:DISPLAY
SUMMARY:Reminder
TRIGGER:-P1D
END:VALARM
END:VEVENT
END:VCALENDAR
