BEGIN:VCALENDAR
METHOD:REQUEST
PRODID:-//events.orgNONSGML ical.net 4.0//EN
VERSION:2.0
BEGIN:VEVENT
DTEND;VALUE=DATE:20260905
DTSTAMP:20260421T082708Z
DTSTART;VALUE=DATE:20260905
LOCATION:Greene Stadium\, Washington
ORGANIZER;CN=:mailto:events@events.org
SEQUENCE:0
SUMMARY:Howard University Bison Football vs. Richmond Spiders Football
UID:c7726f3a-5a42-4a92-b2ed-20ef3fdad391
URL:https://events.org/e/Howard-University-Bison-Football-vs-Richmond/OIYD
 DB6K
BEGIN:VALARM
ACTION:DISPLAY
SUMMARY:Reminder
TRIGGER:-P1D
END:VALARM
END:VEVENT
END:VCALENDAR
