BEGIN:VCALENDAR
METHOD:REQUEST
PRODID:-//events.orgNONSGML ical.net 4.0//EN
VERSION:2.0
BEGIN:VEVENT
DTEND;VALUE=DATE:20260425
DTSTAMP:20260422T085140Z
DTSTART;VALUE=DATE:20260425
LOCATION:Bernard B. Jacobs Theatre\, New York
ORGANIZER;CN=:mailto:events@events.org
SEQUENCE:0
SUMMARY:The Outsiders
UID:dc2f20d0-604c-4664-917f-b85f0ac9e09f
URL:https://events.org/e/The-Outsiders/6XK8MF2P
BEGIN:VALARM
ACTION:DISPLAY
SUMMARY:Reminder
TRIGGER:-P1D
END:VALARM
END:VEVENT
END:VCALENDAR
