BEGIN:VCALENDAR
METHOD:REQUEST
PRODID:-//events.orgNONSGML ical.net 4.0//EN
VERSION:2.0
BEGIN:VEVENT
DTEND;VALUE=DATE:20260610
DTSTAMP:20260423T133816Z
DTSTART;VALUE=DATE:20260610
LOCATION:The Van Buren\, Phoenix
ORGANIZER;CN=:mailto:events@events.org
SEQUENCE:0
SUMMARY:French Montana & Max B
UID:16ba9a88-8103-4322-a1ff-838cb537ce14
URL:https://events.org/e/French-Montana-Max-B/IJSG9L7K
BEGIN:VALARM
ACTION:DISPLAY
SUMMARY:Reminder
TRIGGER:-P1D
END:VALARM
END:VEVENT
END:VCALENDAR
