BEGIN:VCALENDAR
METHOD:REQUEST
PRODID:-//events.orgNONSGML ical.net 4.0//EN
VERSION:2.0
BEGIN:VEVENT
DTEND;VALUE=DATE:20260522
DTSTAMP:20260424T081549Z
DTSTART;VALUE=DATE:20260522
LOCATION:Greek Theatre\, Los Angeles
ORGANIZER;CN=:mailto:events@events.org
SEQUENCE:0
SUMMARY:YUNGBLUD: IDOLS - THE WORLD TOUR
UID:e78353d5-6847-47c6-aab6-be33a0fe1634
URL:https://events.org/e/YUNGBLUD-IDOLS---THE-WORLD-TOUR/VDIYQB4Y
BEGIN:VALARM
ACTION:DISPLAY
SUMMARY:Reminder
TRIGGER:-P1D
END:VALARM
END:VEVENT
END:VCALENDAR
