BEGIN:VCALENDAR
METHOD:REQUEST
PRODID:-//events.orgNONSGML ical.net 4.0//EN
VERSION:2.0
BEGIN:VEVENT
DTEND;VALUE=DATE:20260428
DTSTAMP:20260424T080552Z
DTSTART;VALUE=DATE:20260428
LOCATION:Lincoln Center - Vivian Beaumont Theater\, New York
ORGANIZER;CN=:mailto:events@events.org
SEQUENCE:0
SUMMARY:Ragtime
UID:f0b0d315-4c76-4b76-8651-20eaa5274ded
URL:https://events.org/e/Ragtime/JV22GEN9
BEGIN:VALARM
ACTION:DISPLAY
SUMMARY:Reminder
TRIGGER:-P1D
END:VALARM
END:VEVENT
END:VCALENDAR
