BEGIN:VCALENDAR
METHOD:REQUEST
PRODID:-//events.orgNONSGML ical.net 4.0//EN
VERSION:2.0
BEGIN:VEVENT
DTEND;VALUE=DATE:20260823
DTSTAMP:20260424T092425Z
DTSTART;VALUE=DATE:20260823
LOCATION:Improv Comedy Club- DC\, Washington
ORGANIZER;CN=:mailto:events@events.org
SEQUENCE:0
SUMMARY:Greg Warren
UID:ca36b44a-4303-41b3-9606-9f951eee7f39
URL:https://events.org/e/Greg-Warren/FC3V94B8
BEGIN:VALARM
ACTION:DISPLAY
SUMMARY:Reminder
TRIGGER:-P1D
END:VALARM
END:VEVENT
END:VCALENDAR
