BEGIN:VCALENDAR
METHOD:REQUEST
PRODID:-//events.orgNONSGML ical.net 4.0//EN
VERSION:2.0
BEGIN:VEVENT
DTEND;VALUE=DATE:20260802
DTSTAMP:20260423T154904Z
DTSTART;VALUE=DATE:20260802
LOCATION:Detroit Golf Club\, Detroit
ORGANIZER;CN=:mailto:events@events.org
SEQUENCE:0
SUMMARY:Rocket Classic: Sunday Admission
UID:8ce2ac58-d40a-499a-aa00-bf7f191d38f1
URL:https://events.org/e/Rocket-Classic-Sunday-Admission/KTDNJTFT
BEGIN:VALARM
ACTION:DISPLAY
SUMMARY:Reminder
TRIGGER:-P1D
END:VALARM
END:VEVENT
END:VCALENDAR
