BEGIN:VCALENDAR
METHOD:REQUEST
PRODID:-//events.orgNONSGML ical.net 4.0//EN
VERSION:2.0
BEGIN:VEVENT
DTEND;VALUE=DATE:20260425
DTSTAMP:20260422T091052Z
DTSTART;VALUE=DATE:20260425
LOCATION:Banksy Museum New York\, New York
ORGANIZER;CN=:mailto:events@events.org
SEQUENCE:0
SUMMARY:The Banksy Museum New York!
UID:ce310c6f-dfe9-4e82-9dd0-d673d974c3d3
URL:https://events.org/e/The-Banksy-Museum-New-York/ENNE53LX
BEGIN:VALARM
ACTION:DISPLAY
SUMMARY:Reminder
TRIGGER:-P1D
END:VALARM
END:VEVENT
END:VCALENDAR
